BEGIN:VCALENDAR
VERSION:2.0
PRODID:-//The Bridge Church - ECPv6.15.20//NONSGML v1.0//EN
CALSCALE:GREGORIAN
METHOD:PUBLISH
X-ORIGINAL-URL:https://bridgechurchhouston.com
X-WR-CALDESC:Events for The Bridge Church
REFRESH-INTERVAL;VALUE=DURATION:PT1H
X-Robots-Tag:noindex
X-PUBLISHED-TTL:PT1H
BEGIN:VTIMEZONE
TZID:UTC
BEGIN:STANDARD
TZOFFSETFROM:+0000
TZOFFSETTO:+0000
TZNAME:UTC
DTSTART:20190101T000000
END:STANDARD
END:VTIMEZONE
BEGIN:VEVENT
DTSTART;TZID=UTC:20231123T080000
DTEND;TZID=UTC:20231124T170000
DTSTAMP:20260424T232542
CREATED:20230811T004751Z
LAST-MODIFIED:20230811T004751Z
UID:1798-1700726400-1700845200@bridgechurchhouston.com
SUMMARY:Office/SWCCA Closure
DESCRIPTION:
URL:https://bridgechurchhouston.com/event/office-swcca-closure/
END:VEVENT
BEGIN:VEVENT
DTSTART;TZID=UTC:20231112T080000
DTEND;TZID=UTC:20231112T123000
DTSTAMP:20260424T232542
CREATED:20230811T004621Z
LAST-MODIFIED:20230811T004621Z
UID:1794-1699776000-1699792200@bridgechurchhouston.com
SUMMARY:Pastor Birthday Celebration
DESCRIPTION:
URL:https://bridgechurchhouston.com/event/pastor-birthday-celebration/
END:VEVENT
BEGIN:VEVENT
DTSTART;TZID=UTC:20231111T080000
DTEND;TZID=UTC:20231111T123000
DTSTAMP:20260424T232542
CREATED:20230811T004448Z
LAST-MODIFIED:20230811T004448Z
UID:1789-1699689600-1699705800@bridgechurchhouston.com
SUMMARY:Veteran's Day Recognition
DESCRIPTION:
URL:https://bridgechurchhouston.com/event/veterans-day-recognition/
END:VEVENT
BEGIN:VEVENT
DTSTART;TZID=UTC:20231105T080000
DTEND;TZID=UTC:20231105T123000
DTSTAMP:20260424T232542
CREATED:20230811T004540Z
LAST-MODIFIED:20230811T004549Z
UID:1791-1699171200-1699187400@bridgechurchhouston.com
SUMMARY:Pastor Anniversary Celebration
DESCRIPTION:
URL:https://bridgechurchhouston.com/event/pastor-anniversary/
END:VEVENT
BEGIN:VEVENT
DTSTART;TZID=UTC:20231031T190000
DTEND;TZID=UTC:20231031T203000
DTSTAMP:20260424T232542
CREATED:20230811T004354Z
LAST-MODIFIED:20230811T004354Z
UID:1787-1698778800-1698784200@bridgechurchhouston.com
SUMMARY:Hallelujah Night
DESCRIPTION:
URL:https://bridgechurchhouston.com/event/hallelujah-night/
END:VEVENT
BEGIN:VEVENT
DTSTART;TZID=UTC:20231029T080000
DTEND;TZID=UTC:20231029T123000
DTSTAMP:20260424T232542
CREATED:20230811T004321Z
LAST-MODIFIED:20230811T004321Z
UID:1785-1698566400-1698582600@bridgechurchhouston.com
SUMMARY:Breast Cancer Awareness & Total Experience Sunday
DESCRIPTION:
URL:https://bridgechurchhouston.com/event/breast-cancer-awareness-total-experience-sunday/
END:VEVENT
BEGIN:VEVENT
DTSTART;TZID=UTC:20231028T090000
DTEND;TZID=UTC:20231028T110000
DTSTAMP:20260424T232542
CREATED:20230811T004241Z
LAST-MODIFIED:20230811T004241Z
UID:1783-1698483600-1698490800@bridgechurchhouston.com
SUMMARY:Prayer Breakfast
DESCRIPTION:
URL:https://bridgechurchhouston.com/event/prayer-breakfast/
END:VEVENT
BEGIN:VEVENT
DTSTART;TZID=UTC:20230924T080000
DTEND;TZID=UTC:20230924T123000
DTSTAMP:20260424T232542
CREATED:20230811T004200Z
LAST-MODIFIED:20230811T004200Z
UID:1781-1695542400-1695558600@bridgechurchhouston.com
SUMMARY:Prostate Cancer Awareness Sunday
DESCRIPTION:
URL:https://bridgechurchhouston.com/event/prostate-cancer-awareness-sunday/
END:VEVENT
BEGIN:VEVENT
DTSTART;TZID=UTC:20230909T130000
DTEND;TZID=UTC:20230909T170000
DTSTAMP:20260424T232542
CREATED:20230811T004104Z
LAST-MODIFIED:20230811T004104Z
UID:1779-1694264400-1694278800@bridgechurchhouston.com
SUMMARY:Drama & Praise Dance - Expression of Grace - Celebration of Movement & Theatre
DESCRIPTION:
URL:https://bridgechurchhouston.com/event/drama-praise-dance-expression-of-grace-celebration-of-movement-theatre/
END:VEVENT
BEGIN:VEVENT
DTSTART;VALUE=DATE:20230904
DTEND;VALUE=DATE:20230905
DTSTAMP:20260424T232542
CREATED:20230811T004010Z
LAST-MODIFIED:20230811T004010Z
UID:1777-1693785600-1693871999@bridgechurchhouston.com
SUMMARY:Labor Day (Office & SWCCA Closed)
DESCRIPTION:
URL:https://bridgechurchhouston.com/event/labor-day-office-swcca-closed/
END:VEVENT
BEGIN:VEVENT
DTSTART;TZID=UTC:20230826T073000
DTEND;TZID=UTC:20230826T150000
DTSTAMP:20260424T232542
CREATED:20230811T003829Z
LAST-MODIFIED:20230811T005340Z
UID:1775-1693035000-1693062000@bridgechurchhouston.com
SUMMARY:Usher's Fish Fry & Garage Sale
DESCRIPTION:
URL:https://bridgechurchhouston.com/event/ushers-fish-fry-garage-sale/
END:VEVENT
BEGIN:VEVENT
DTSTART;TZID=UTC:20230710T183000
DTEND;TZID=UTC:20230714T203000
DTSTAMP:20260424T232542
CREATED:20230710T205756Z
LAST-MODIFIED:20230720T175358Z
UID:1679-1689013800-1689366600@bridgechurchhouston.com
SUMMARY:Adult Vacation Bible School Study Guide
DESCRIPTION:Book of Genesis Certificate \nVBS 2023 – BOOK OF GENESISVBS 2023 – BOOK OF GENESIS \nVBS 2023 – BOOK OF GENESIS
URL:https://bridgechurchhouston.com/event/adult-vacation-bible-school-study-guide/
CATEGORIES:Bible
ATTACH;FMTTYPE=image/png:https://bridgechurchhouston.com/wp-content/uploads/2023/07/Untitled-design-48.png
END:VEVENT
BEGIN:VEVENT
DTSTART;TZID=UTC:20230226T080000
DTEND;TZID=UTC:20230226T130000
DTSTAMP:20260424T232542
CREATED:20230217T175622Z
LAST-MODIFIED:20230217T175858Z
UID:1419-1677398400-1677416400@bridgechurchhouston.com
SUMMARY:Black History Recognition Service
DESCRIPTION:Celebrate Black History Month at 8am & 11am Services. Wear your favorite Black History attire.
URL:https://bridgechurchhouston.com/event/black-history-recognition-service/
END:VEVENT
BEGIN:VEVENT
DTSTART;TZID=UTC:20230222T190000
DTEND;TZID=UTC:20230409T233000
DTSTAMP:20260424T232542
CREATED:20230223T000222Z
LAST-MODIFIED:20240212T185942Z
UID:1435-1677092400-1681083000@bridgechurchhouston.com
SUMMARY:40-Day Journal and Meal Plan
DESCRIPTION:Fasting_Journal-2024 \n40-Day Corporate Fast Weekly Meal Plan
URL:https://bridgechurchhouston.com/event/40-day-journal/
ATTACH;FMTTYPE=image/jpeg:https://bridgechurchhouston.com/wp-content/uploads/2024/02/ASHWED2024-D.jpg
END:VEVENT
BEGIN:VEVENT
DTSTART;TZID=UTC:20230222T190000
DTEND;TZID=UTC:20230222T200000
DTSTAMP:20260424T232542
CREATED:20230217T175350Z
LAST-MODIFIED:20230217T175350Z
UID:1417-1677092400-1677096000@bridgechurchhouston.com
SUMMARY:Ash Wednesday Service
DESCRIPTION:Join us for Ash Wednesday Service and the start of our 40-Day Fast.
URL:https://bridgechurchhouston.com/event/ash-wednesday-service-2/
END:VEVENT
BEGIN:VEVENT
DTSTART;VALUE=DATE:20230220
DTEND;VALUE=DATE:20230221
DTSTAMP:20260424T232542
CREATED:20230217T175117Z
LAST-MODIFIED:20230217T175117Z
UID:1415-1676851200-1676937599@bridgechurchhouston.com
SUMMARY:SWCCA Office Closure
DESCRIPTION:In recognition of President’s Day\, SWCCA and the SWCCC offices will be closed.
URL:https://bridgechurchhouston.com/event/swcca-office-closure/
END:VEVENT
BEGIN:VEVENT
DTSTART;TZID=UTC:20221118T190000
DTEND;TZID=UTC:20221118T220000
DTSTAMP:20260424T232542
CREATED:20220930T052202Z
LAST-MODIFIED:20220930T052202Z
UID:1310-1668798000-1668808800@bridgechurchhouston.com
SUMMARY:Pastor's Platinum Birthday Celebration
DESCRIPTION:November 18th\, 2022\nHyatt Regency Houston West\n13210 Katy Freeway
URL:https://bridgechurchhouston.com/event/pastors-platinum-birthday-celebration/
END:VEVENT
BEGIN:VEVENT
DTSTART;TZID=UTC:20220303T190000
DTEND;TZID=UTC:20220303T200000
DTSTAMP:20260424T232542
CREATED:20220302T221421Z
LAST-MODIFIED:20220302T221527Z
UID:1171-1646334000-1646337600@bridgechurchhouston.com
SUMMARY:Ash Wednesday Service
DESCRIPTION:Join US Live for Ash Wednesday. On March 2nd\, The Bridge is hosting an Anointing Service at 7pm \nMasks are required and social distancing will be strictly reinforced.
URL:https://bridgechurchhouston.com/event/ash-wednesday-service/
END:VEVENT
BEGIN:VEVENT
DTSTART;TZID=UTC:20220228T190000
DTEND;TZID=UTC:20220228T210000
DTSTAMP:20260424T232542
CREATED:20210203T183153Z
LAST-MODIFIED:20220222T172630Z
UID:904-1646074800-1646082000@bridgechurchhouston.com
SUMMARY:Bridge Membership Meeting
DESCRIPTION:Join Pastor Patrick for a all member ZOOM call Monday\, February 28st @ 7pm. \n  \nMeeting ID: 935 8339 3107\nPasscode: 729541\nDial In: 1-(346)248-7799
URL:https://bridgechurchhouston.com/event/bridge-membership-meeting/
ATTACH;FMTTYPE=image/jpeg:https://bridgechurchhouston.com/wp-content/uploads/2022/02/2.21.22-Bridge-Membership-Meeting.jpg
END:VEVENT
BEGIN:VEVENT
DTSTART;TZID=UTC:20220213T093000
DTEND;TZID=UTC:20220213T103000
DTSTAMP:20260424T232542
CREATED:20211102T032935Z
LAST-MODIFIED:20220211T053938Z
UID:844-1644744600-1644748200@bridgechurchhouston.com
SUMMARY:Adult Sunday School
DESCRIPTION:The Bridge Church is inviting you to a scheduled Zoom meeting. \n\nTopic: Adult Zoom Sunday School\nTime: 9:30 A.M.\nJoin Zoom Meeting\n\nMeeting ID: 978 3772 9310\nPasscode: 087484\nDail In:  1-346-248-7799
URL:https://bridgechurchhouston.com/event/adult-sunday-school/
CATEGORIES:Bible
ATTACH;FMTTYPE=image/png:https://bridgechurchhouston.com/wp-content/uploads/2020/11/Adult-Sunday-School-Zoom.png
END:VEVENT
BEGIN:VEVENT
DTSTART;TZID=UTC:20211030T000000
DTEND;TZID=UTC:20211030T235900
DTSTAMP:20260424T232542
CREATED:20211012T140515Z
LAST-MODIFIED:20211022T174712Z
UID:1067-1635552000-1635638340@bridgechurchhouston.com
SUMMARY:WCF Breakfast Under the Breezeway
DESCRIPTION:Breakfast Under The Breezeway\, Saturday October 30th\, 2021\nTime 10:00 AM\nRSVP – Registration Link – Below\nWCF Breakfast Under the Breezeway Registration\n 
URL:https://bridgechurchhouston.com/event/wcf-breakfast-under-the-breezeway/
END:VEVENT
BEGIN:VEVENT
DTSTART;TZID=UTC:20211023T090000
DTEND;TZID=UTC:20211127T100000
DTSTAMP:20260424T232542
CREATED:20210917T162922Z
LAST-MODIFIED:20211009T222709Z
UID:1044-1634979600-1638007200@bridgechurchhouston.com
SUMMARY:WCF Morning Glory Hour - Standing Firm in the Faith
DESCRIPTION:Morning Glory Hour is BACK for the Fall! \nJoin Women Christian Fellowship for 3 hours that will be sure to strengthen your faith!\nZoom meeting ID: 996 7350 8683\nZoom passcode: 937591\nDial In: (346)248-7799 \nOctober 9th\nJohnnie Breakfield\n“You Got This – No Doubt” \nOctober 23rd\nAustra Runnels\n“Come Too Far\, Been Through Too Much – Keep Trusting”
URL:https://bridgechurchhouston.com/event/wcf-morning-glory-hour-standing-firm-in-the-faith/
END:VEVENT
BEGIN:VEVENT
DTSTART;TZID=UTC:20211021T080000
DTEND;TZID=UTC:20211021T170000
DTSTAMP:20260424T232542
CREATED:20211009T222541Z
LAST-MODIFIED:20211009T222541Z
UID:1061-1634803200-1634835600@bridgechurchhouston.com
SUMMARY:Marriage Enrichment
DESCRIPTION:Every two weeks
URL:https://bridgechurchhouston.com/event/marriage-enrichment/
ATTACH;FMTTYPE=image/png:https://bridgechurchhouston.com/wp-content/uploads/2021/10/Marriage-Enrichment.png
END:VEVENT
BEGIN:VEVENT
DTSTART;TZID=UTC:20210930T150000
DTEND;TZID=UTC:20210930T190000
DTSTAMP:20260424T232542
CREATED:20210930T015913Z
LAST-MODIFIED:20210930T015913Z
UID:1053-1633014000-1633028400@bridgechurchhouston.com
SUMMARY:Emergency Rental Assistance
DESCRIPTION:Please Bring: \nProof of Tenant ID\nCopy of Your Current Lease\nProof of Income\nProof of Economic Hardship Due to COVID\nProof of Housing Instability
URL:https://bridgechurchhouston.com/event/emergency-rental-assistance/
ATTACH;FMTTYPE=image/jpeg:https://bridgechurchhouston.com/wp-content/uploads/2021/09/Rental-Assistance.jpg
END:VEVENT
BEGIN:VEVENT
DTSTART;TZID=UTC:20210911T100000
DTEND;TZID=UTC:20210911T150000
DTSTAMP:20260424T232542
CREATED:20210907T170217Z
LAST-MODIFIED:20210907T170217Z
UID:1036-1631354400-1631372400@bridgechurchhouston.com
SUMMARY:Hurrican Ida Relief
DESCRIPTION:Please come to The Bridge of Saturday\, September 11th from 10am -3pm to provide donations for Hurricane Ida relief. \n\nWe are in need of the following items:\nWater\nToiletries\nPaper Goods\nBaby Products\nCleaning Supplies\nNon-Perishable Goods\nFlashlights and Batteries\n\n97.9 and 102.1 will be on site.
URL:https://bridgechurchhouston.com/event/hurrican-ida-relief/
END:VEVENT
BEGIN:VEVENT
DTSTART;TZID=UTC:20210626T090000
DTEND;TZID=UTC:20210711T100000
DTSTAMP:20260424T232542
CREATED:20210526T213558Z
LAST-MODIFIED:20210625T035753Z
UID:980-1624698000-1625997600@bridgechurchhouston.com
SUMMARY:WCF Morning Glory Hour
DESCRIPTION:The Women Christian Fellowship invites both Men & Women to join us this Saturday at 9:00 A.M. for the WCF Zoom Close-out Session on “The Power of Togetherness.”  Pastor Patrick will be our speaker and we hope you will join us as we continue to Walk It Out Together. \nHave a wonderful day and don’t forget to ZOOM IN this Saturday from 9:00 AM – 10:00 A.M.\nZoom meeting ID: 996 7350 8683\nZoom passcode: 937591\nDial In: (346)248-7799 \nJune 26th @ 9am\nPastor Gregg Patrick\n“The Power of Togetherness”
URL:https://bridgechurchhouston.com/event/wcf-morning-glory-hour-2/
END:VEVENT
BEGIN:VEVENT
DTSTART;VALUE=DATE:20210515
DTEND;VALUE=DATE:20210516
DTSTAMP:20260424T232542
CREATED:20210427T160228Z
LAST-MODIFIED:20210427T160249Z
UID:955-1621036800-1621123199@bridgechurchhouston.com
SUMMARY:Don't Wait\, Vaccinate
DESCRIPTION:We are proud to announce the The Bridge will be offering COVID vaccines on May 15th. Do not miss this chance to get vaccinated. The only way to fight this disease is with everyone’s help. To sign up\, can the church office (281)983-LOVE and supply your name\, email and date of birth.
URL:https://bridgechurchhouston.com/event/955/
END:VEVENT
BEGIN:VEVENT
DTSTART;TZID=UTC:20210507T190000
DTEND;TZID=UTC:20210507T200000
DTSTAMP:20260424T232542
CREATED:20210502T023644Z
LAST-MODIFIED:20210505T163731Z
UID:963-1620414000-1620417600@bridgechurchhouston.com
SUMMARY:National Day of Prayer
DESCRIPTION:Join Us Thursday May 6\, 2021\n7pm – 8pm\nhttps://zoom.us/j/93427715996\nZOOM Meeting ID 934 2771 5996\nPasscode: 121543\nDial In: 346-248-7799
URL:https://bridgechurchhouston.com/event/national-day-of-prayer-2/
END:VEVENT
BEGIN:VEVENT
DTSTART;TZID=UTC:20210425T090000
DTEND;TZID=UTC:20210509T100000
DTSTAMP:20260424T232542
CREATED:20210306T185139Z
LAST-MODIFIED:20210414T194426Z
UID:929-1619341200-1620554400@bridgechurchhouston.com
SUMMARY:WCF Morning Glory Hour
DESCRIPTION:Morning Glory Hour is BACK! \nJoin Women Christian Fellowship for two hours packed to get you moving.\nZoom meeting ID: 996 7350 8683\nZoom passcode: 937591\nDial In: (346)248-7799 \nApril 10th\nAustra Runnels\n“We Can Do This” \nApril 24th\nRobin Morrison\n“Moving on Up”
URL:https://bridgechurchhouston.com/event/wcf-morning-glory-hour/
END:VEVENT
BEGIN:VEVENT
DTSTART;TZID=UTC:20201222T080000
DTEND;TZID=UTC:20201223T170000
DTSTAMP:20260424T232542
CREATED:20201220T051628Z
LAST-MODIFIED:20201220T051628Z
UID:883-1608624000-1608742800@bridgechurchhouston.com
SUMMARY:Food and Toy Giveaway
DESCRIPTION:We understand that there may be families in need this Christmas season. The Bridge is always here to help. If you are in need\, please call the church office and come by on December 22nd between 8am and 5pm.
URL:https://bridgechurchhouston.com/event/food-and-toy-giveaway/
END:VEVENT
END:VCALENDAR